BEGIN:VCALENDAR
VERSION:2.0
PRODID:-//St Bartholomew&#039;s - ECPv6.6.4//NONSGML v1.0//EN
CALSCALE:GREGORIAN
METHOD:PUBLISH
X-WR-CALNAME:St Bartholomew&#039;s
X-ORIGINAL-URL:https://www.stbartholomews.lincs.sch.uk
X-WR-CALDESC:Events for St Bartholomew&#039;s
REFRESH-INTERVAL;VALUE=DURATION:PT1H
X-Robots-Tag:noindex
X-PUBLISHED-TTL:PT1H
BEGIN:VTIMEZONE
TZID:UTC
BEGIN:STANDARD
TZOFFSETFROM:+0000
TZOFFSETTO:+0000
TZNAME:UTC
DTSTART:20260101T000000
END:STANDARD
END:VTIMEZONE
BEGIN:VEVENT
DTSTART;VALUE=DATE:20260424
DTEND;VALUE=DATE:20260425
DTSTAMP:20260424T034619
CREATED:20260225T114106Z
LAST-MODIFIED:20260225T114106Z
UID:15776-1776988800-1777075199@www.stbartholomews.lincs.sch.uk
SUMMARY:Purple Up Day - Non Uniform
DESCRIPTION:The children and staff are invited to wear something purple (clothes\, hair accessories\, nail varnish) to support ‘Purple Up Day’\, which celebrates children from Armed Forces families.
URL:https://www.stbartholomews.lincs.sch.uk/index.php/events/purple-up-day-non-uniform/
END:VEVENT
END:VCALENDAR